BEGIN:VCALENDAR
VERSION:2.0
PRODID:-//wp-events-plugin.com//7.0.4//EN
TZID:America/New_York
X-WR-TIMEZONE:America/New_York
BEGIN:VEVENT
UID:2632@monmouthpickleball.org
DTSTART;TZID=America/New_York:20180928T080000
DTEND;TZID=America/New_York:20180930T160000
DTSTAMP:20180712T195308Z
URL:https://monmouthpickleball.org/events/2018-nj-pickleball-fall-classic/
SUMMARY:2018 NJ Pickleball Fall Classic
DESCRIPTION:New Jersey’s first pickleball fall classic will be held Septe
 mber 28\, 29\, and 30. Cash Prizes to 1st Place. Finishers with Medals fo
 r 1st\, 2nd &amp\; 3rd. Professionally run event on 20 indoor climate cont
 rolled courts. New Paddles &amp\; other prizes given away each day. See be
 low for details.\n\nSee below for details.\n\nWhere: Mendham Health &amp\;
  Racquet Club 90 E. Main St. Mendham\, NJ 07954\nFormat: Skill/Age Based 1
 2-49 &amp\; 50+ 2.5 to 5.0 Men’s &amp\; Women’s Singles\, Men’s Doub
 les\,\nWomen’s Doubles &amp\; Mixed Doubles\nRules: USAPA/IFP\nType: Rou
 nd Robin games to 11 or 15. Win by 1. Minimum of 6 matches\, Max of 12.\nT
 ournament Ball: Dura Fast 40 (yellow outdoor)\nCost: $60 per player includ
 es one or all events\n\nHead over to pickleballtournaments.com to register
  by September 21\, 2018. There’s a 20 percent discount for early registr
 ations. Questions? Contact Director Tony Corbo.
CATEGORIES:Tournament
LOCATION:Mendham Health & Racquet Club\, 90 E. Main Street\, Mendham\, NJ\,
  07854\, United States
GEO:40.7837306;-74.59010860000001
X-APPLE-STRUCTURED-LOCATION;VALUE=URI;X-ADDRESS=90 E. Main Street\, Mendham
 \, NJ\, 07854\, United States;X-APPLE-RADIUS=100;X-TITLE=Mendham Health & 
 Racquet Club:geo:40.7837306,-74.59010860000001
END:VEVENT
BEGIN:VTIMEZONE
TZID:America/New_York
X-LIC-LOCATION:America/New_York
BEGIN:DAYLIGHT
DTSTART:20180311T030000
TZOFFSETFROM:-0500
TZOFFSETTO:-0400
TZNAME:EDT
END:DAYLIGHT
END:VTIMEZONE
END:VCALENDAR