BEGIN:VCALENDAR
VERSION:2.0
PRODID:-//wp-events-plugin.com//7.0.4//EN
TZID:America/New_York
X-WR-TIMEZONE:America/New_York
BEGIN:VEVENT
UID:2629@monmouthpickleball.org
DTSTART;TZID=America/New_York:20180630T080000
DTEND;TZID=America/New_York:20180630T160000
DTSTAMP:20180531T215502Z
URL:https://monmouthpickleball.org/events/mrc-pickleball-tournament/
SUMMARY:MRC Pickleball Tournament
DESCRIPTION:The Mountainside Racquet Club is offering its first pickleball 
 tournament. It is open to all interested players who will be 40 years of a
 ge on 12/31/2018. There will be medals for 1st and 2nd place in each even
 t. We have 6 indoor courts\, climate controlled\, comfortable lounge area\
 , changing rooms. See pictures below. We are indoors – No rain delays!\n
 \n\n\nWhen: Saturday\, June 30\, 2018\, 8:30 AM (practice at 8 AM)\n\nWher
 e: Mountainside Racquet Club\, 191 Route 22 East\, Mountainside\, NJ 07092
 \n\nGroups: Men’s doubles\, Women’s doubles\, and Mixed doubles\, bra
 cketed by age (40-49\, 50-59\, 60-69\, 70+.)\n\nFormat: Round robin for sm
 aller brackets and double elimination for larger brackets\n\nYou may regis
 ter for a maximum of two events. The registration fee is $32/person. Sign
 -ups capped at first 100 match entries. \n\nMore Information: https://ww
 w.usapa.org/iframe/tourney/signup.php?tname=MRCPickleball&amp\;admin=MRCPi
 ckleball\n\n&nbsp\;\n\nQuestions? Contact Tournament Director\, John Negl
 ia\, john@mrctennis.com 908.347.1684
CATEGORIES:Tournament
LOCATION:Mountainside Racquet Club\, 191 Route 22 East\, Mountainside\, NJ\
 , 07092\, United States
GEO:40.6797067;-74.34263269999997
X-APPLE-STRUCTURED-LOCATION;VALUE=URI;X-ADDRESS=191 Route 22 East\, Mountai
 nside\, NJ\, 07092\, United States;X-APPLE-RADIUS=100;X-TITLE=Mountainside
  Racquet Club:geo:40.6797067,-74.34263269999997
END:VEVENT
BEGIN:VTIMEZONE
TZID:America/New_York
X-LIC-LOCATION:America/New_York
BEGIN:DAYLIGHT
DTSTART:20180311T030000
TZOFFSETFROM:-0500
TZOFFSETTO:-0400
TZNAME:EDT
END:DAYLIGHT
END:VTIMEZONE
END:VCALENDAR