BEGIN:VCALENDAR
VERSION:2.0
PRODID:-//wp-events-plugin.com//7.0.4//EN
TZID:America/New_York
X-WR-TIMEZONE:America/New_York
BEGIN:VEVENT
UID:2633@monmouthpickleball.org
DTSTART;TZID=America/New_York:20180825T080000
DTEND;TZID=America/New_York:20180826T160000
DTSTAMP:20180712T195418Z
URL:https://monmouthpickleball.org/events/new-jersey-open-pickleball-champ
 ionships/
SUMMARY:New Jersey Open Pickleball Championships
DESCRIPTION:The New Jersey Open is the first sanctioned USAPA tournament 
 in the state of New Jersey\, and over the next few years\, will grow into 
 one of the premier events of the year in the Northeast Pickleball tourname
 nt schedule.\n\nWhen: Saturday\, August 25\; Sunday\, August 26\nWhere: Re
 d Bank YMCA\n\nThis is a USAPA sanctioned event. You must be a USAPA memb
 er to compete in the event. If you are not a USAPA member and need to joi
 n\, please click here. Tournament director reserves the right to re-clas
 sify and/or combine teams to fill divisions.\n\n 	Men’s\, Women’s\, an
 d Mixed Divisions available for 2.5 through 5.0 levels of play.\n 	Divisio
 ns will be double elimination\; matches will be best 2 out of 3 games.\n 	
 All matches will have a referee.\n 	Tournament registration is not complet
 e until paid in full.\n\nSaturday August 25 – Men’s &amp\; Women’s 
 Doubles\n\nSunday August 26th – Mixed Doubles &amp\; Junior Divisions\n
 \n*** NOTE: Players may only play one skill level per day\, regardless if 
 playing with different partner ***\n\nRegistration is now open at www.njo
 pickleball.com.
CATEGORIES:Tournament
LOCATION:The Community YMCA of Red Bank\, 166 Maple Ave\, Red Bank\, NJ\, 0
 7701\, United States
GEO:40.34505679999999;-74.06887540000002
X-APPLE-STRUCTURED-LOCATION;VALUE=URI;X-ADDRESS=166 Maple Ave\, Red Bank\, 
 NJ\, 07701\, United States;X-APPLE-RADIUS=100;X-TITLE=The Community YMCA o
 f Red Bank:geo:40.34505679999999,-74.06887540000002
END:VEVENT
BEGIN:VTIMEZONE
TZID:America/New_York
X-LIC-LOCATION:America/New_York
BEGIN:DAYLIGHT
DTSTART:20180311T030000
TZOFFSETFROM:-0500
TZOFFSETTO:-0400
TZNAME:EDT
END:DAYLIGHT
END:VTIMEZONE
END:VCALENDAR