BEGIN:VCALENDAR
VERSION:2.0
PRODID:-//wp-events-plugin.com//7.0.4//EN
TZID:America/New_York
X-WR-TIMEZONE:America/New_York
BEGIN:VEVENT
UID:2654@monmouthpickleball.org
DTSTART;TZID=America/New_York:20180708T110000
DTEND;TZID=America/New_York:20180708T160000
DTSTAMP:20180712T200615Z
URL:https://monmouthpickleball.org/events/open-play-all-levels-atlantic-cl
 ub-2-2018-07-08/
SUMMARY:The Atlantic Club - Open Play
DESCRIPTION:
CATEGORIES:All Levels,Open Play
LOCATION:The Atlantic Club\, 1904 Atlantic Ave\, Manasquan\, NJ\, 08736\, U
 nited States
GEO:40.1360477;-74.07713180000002
X-APPLE-STRUCTURED-LOCATION;VALUE=URI;X-ADDRESS=1904 Atlantic Ave\, Manasqu
 an\, NJ\, 08736\, United States;X-APPLE-RADIUS=100;X-TITLE=The Atlantic Cl
 ub:geo:40.1360477,-74.07713180000002
END:VEVENT
BEGIN:VTIMEZONE
TZID:America/New_York
X-LIC-LOCATION:America/New_York
BEGIN:DAYLIGHT
DTSTART:20180311T030000
TZOFFSETFROM:-0500
TZOFFSETTO:-0400
TZNAME:EDT
END:DAYLIGHT
END:VTIMEZONE
END:VCALENDAR