BEGIN:VCALENDAR
VERSION:2.0
PRODID:-//wp-events-plugin.com//7.0.4//EN
TZID:America/New_York
X-WR-TIMEZONE:America/New_York
BEGIN:VEVENT
UID:2951@monmouthpickleball.org
DTSTART;TZID=America/New_York:20180728T090000
DTEND;TZID=America/New_York:20180728T110000
DTSTAMP:20181012T195748Z
URL:https://monmouthpickleball.org/events/open-play-all-levels-cnrc-4-2018
 -07-28/
SUMMARY:Colts Neck Racquet - Open Play
DESCRIPTION:
CATEGORIES:All Levels,Open Play
LOCATION:Colts Neck Racquet Club\, 36 Artisan Way\, Colt's Neck\, NJ\, 0772
 2\, United States
GEO:40.293928;-74.175926
X-APPLE-STRUCTURED-LOCATION;VALUE=URI;X-ADDRESS=36 Artisan Way\, Colt's Nec
 k\, NJ\, 07722\, United States;X-APPLE-RADIUS=100;X-TITLE=Colts Neck Racqu
 et Club:geo:40.293928,-74.175926
END:VEVENT
BEGIN:VTIMEZONE
TZID:America/New_York
X-LIC-LOCATION:America/New_York
BEGIN:DAYLIGHT
DTSTART:20180311T030000
TZOFFSETFROM:-0500
TZOFFSETTO:-0400
TZNAME:EDT
END:DAYLIGHT
END:VTIMEZONE
END:VCALENDAR