BEGIN:VCALENDAR
VERSION:2.0
PRODID:-//wp-events-plugin.com//7.0.4//EN
TZID:America/New_York
X-WR-TIMEZONE:America/New_York
BEGIN:VEVENT
UID:2474@monmouthpickleball.org
DTSTART;TZID=America/New_York:20180829T170000
DTEND;TZID=America/New_York:20180829T210000
DTSTAMP:20180712T200345Z
URL:https://monmouthpickleball.org/events/open-play-all-levels-cyrb-2-2018
 -08-29/
SUMMARY:Red Bank YMCA - Open Play
DESCRIPTION:
CATEGORIES:All Levels,Open Play
LOCATION:The Community YMCA of Red Bank\, 166 Maple Ave\, Red Bank\, NJ\, 0
 7701\, United States
GEO:40.34511190000001;-74.06884130000003
X-APPLE-STRUCTURED-LOCATION;VALUE=URI;X-ADDRESS=166 Maple Ave\, Red Bank\, 
 NJ\, 07701\, United States;X-APPLE-RADIUS=100;X-TITLE=The Community YMCA o
 f Red Bank:geo:40.34511190000001,-74.06884130000003
END:VEVENT
BEGIN:VTIMEZONE
TZID:America/New_York
X-LIC-LOCATION:America/New_York
BEGIN:DAYLIGHT
DTSTART:20180311T030000
TZOFFSETFROM:-0500
TZOFFSETTO:-0400
TZNAME:EDT
END:DAYLIGHT
END:VTIMEZONE
END:VCALENDAR