BEGIN:VCALENDAR
VERSION:2.0
PRODID:-//wp-events-plugin.com//7.0.4//EN
TZID:America/New_York
X-WR-TIMEZONE:America/New_York
BEGIN:VEVENT
UID:2605@monmouthpickleball.org
DTSTART;TZID=America/New_York:20180629T183000
DTEND;TZID=America/New_York:20180629T200000
DTSTAMP:20180531T213803Z
URL:https://monmouthpickleball.org/events/open-play-beginner-intermediate-
 fmrc-9-2018-06-29/
SUMMARY:Open Play - Beginner & Intermediate - FMRC
DESCRIPTION:
CATEGORIES:Beginners,Intermediate,Open Play
LOCATION:Fort Monmouth Recreation Center\, 2566 Guam Lane\, Tinton Falls\, 
 NJ\, 07724\, Monmouth County\, United States
GEO:40.297449;-74.08126399999998
X-APPLE-STRUCTURED-LOCATION;VALUE=URI;X-ADDRESS=2566 Guam Lane\, Tinton Fal
 ls\, NJ\, 07724\, Monmouth County\, United States;X-APPLE-RADIUS=100;X-TIT
 LE=Fort Monmouth Recreation Center:geo:40.297449,-74.08126399999998
END:VEVENT
BEGIN:VTIMEZONE
TZID:America/New_York
X-LIC-LOCATION:America/New_York
BEGIN:DAYLIGHT
DTSTART:20180311T030000
TZOFFSETFROM:-0500
TZOFFSETTO:-0400
TZNAME:EDT
END:DAYLIGHT
END:VTIMEZONE
END:VCALENDAR